BEGIN:VCALENDAR
VERSION:2.0
PRODID:-//The Sportsmen’s Tennis &amp; Enrichment Center - ECPv6.15.20//NONSGML v1.0//EN
CALSCALE:GREGORIAN
METHOD:PUBLISH
X-WR-CALNAME:The Sportsmen’s Tennis &amp; Enrichment Center
X-ORIGINAL-URL:https://sportsmenstennis.org
X-WR-CALDESC:Events for The Sportsmen’s Tennis &amp; Enrichment Center
REFRESH-INTERVAL;VALUE=DURATION:PT1H
X-Robots-Tag:noindex
X-PUBLISHED-TTL:PT1H
BEGIN:VTIMEZONE
TZID:America/New_York
BEGIN:DAYLIGHT
TZOFFSETFROM:-0500
TZOFFSETTO:-0400
TZNAME:EDT
DTSTART:20250309T070000
END:DAYLIGHT
BEGIN:STANDARD
TZOFFSETFROM:-0400
TZOFFSETTO:-0500
TZNAME:EST
DTSTART:20251102T060000
END:STANDARD
BEGIN:DAYLIGHT
TZOFFSETFROM:-0500
TZOFFSETTO:-0400
TZNAME:EDT
DTSTART:20260308T070000
END:DAYLIGHT
BEGIN:STANDARD
TZOFFSETFROM:-0400
TZOFFSETTO:-0500
TZNAME:EST
DTSTART:20261101T060000
END:STANDARD
BEGIN:DAYLIGHT
TZOFFSETFROM:-0500
TZOFFSETTO:-0400
TZNAME:EDT
DTSTART:20270314T070000
END:DAYLIGHT
BEGIN:STANDARD
TZOFFSETFROM:-0400
TZOFFSETTO:-0500
TZNAME:EST
DTSTART:20271107T060000
END:STANDARD
BEGIN:DAYLIGHT
TZOFFSETFROM:-0500
TZOFFSETTO:-0400
TZNAME:EDT
DTSTART:20280312T070000
END:DAYLIGHT
BEGIN:STANDARD
TZOFFSETFROM:-0400
TZOFFSETTO:-0500
TZNAME:EST
DTSTART:20281105T060000
END:STANDARD
END:VTIMEZONE
BEGIN:VEVENT
DTSTART;TZID=America/New_York:20261009T180000
DTEND;TZID=America/New_York:20261009T200000
DTSTAMP:20260422T005745
CREATED:20260327T201501Z
LAST-MODIFIED:20260327T203519Z
UID:10000890-1791568800-1791576000@sportsmenstennis.org
SUMMARY:Volley Against Violence
DESCRIPTION:Join us at Sportsmen’s Tennis & Enrichment Center along with The Boston Police Department\nas they present FREE FUN & FITNESS for youth ages 5 – 16 on Fridays 6:00 to 8:00pm.\nFor more information call Sportsmen’s at 617.288.9092. \n \nLEARN MORE HERE
URL:https://sportsmenstennis.org/event/volley-against-violence-2-2/2026-10-09/
LOCATION:Sportsmen’s Tennis & Enrichment Center\, 950 Blue Hill Avenue\, Dorchester\, MA\, 02124
CATEGORIES:Community Event,Volley Against Violence
ATTACH;FMTTYPE=image/png:https://sportsmenstennis.org/wp-content/uploads/2025/02/VAV-Calendar.png
ORGANIZER;CN="Front Desk":MAILTO:info@sportsmentennis.org
END:VEVENT
BEGIN:VEVENT
DTSTART;TZID=America/New_York:20261016T180000
DTEND;TZID=America/New_York:20261016T200000
DTSTAMP:20260422T005745
CREATED:20260327T201501Z
LAST-MODIFIED:20260327T203519Z
UID:10000891-1792173600-1792180800@sportsmenstennis.org
SUMMARY:Volley Against Violence
DESCRIPTION:Join us at Sportsmen’s Tennis & Enrichment Center along with The Boston Police Department\nas they present FREE FUN & FITNESS for youth ages 5 – 16 on Fridays 6:00 to 8:00pm.\nFor more information call Sportsmen’s at 617.288.9092. \n \nLEARN MORE HERE
URL:https://sportsmenstennis.org/event/volley-against-violence-2-2/2026-10-16/
LOCATION:Sportsmen’s Tennis & Enrichment Center\, 950 Blue Hill Avenue\, Dorchester\, MA\, 02124
CATEGORIES:Community Event,Volley Against Violence
ATTACH;FMTTYPE=image/png:https://sportsmenstennis.org/wp-content/uploads/2025/02/VAV-Calendar.png
ORGANIZER;CN="Front Desk":MAILTO:info@sportsmentennis.org
END:VEVENT
BEGIN:VEVENT
DTSTART;TZID=America/New_York:20261023T180000
DTEND;TZID=America/New_York:20261023T200000
DTSTAMP:20260422T005745
CREATED:20260327T201501Z
LAST-MODIFIED:20260327T203519Z
UID:10000892-1792778400-1792785600@sportsmenstennis.org
SUMMARY:Volley Against Violence
DESCRIPTION:Join us at Sportsmen’s Tennis & Enrichment Center along with The Boston Police Department\nas they present FREE FUN & FITNESS for youth ages 5 – 16 on Fridays 6:00 to 8:00pm.\nFor more information call Sportsmen’s at 617.288.9092. \n \nLEARN MORE HERE
URL:https://sportsmenstennis.org/event/volley-against-violence-2-2/2026-10-23/
LOCATION:Sportsmen’s Tennis & Enrichment Center\, 950 Blue Hill Avenue\, Dorchester\, MA\, 02124
CATEGORIES:Community Event,Volley Against Violence
ATTACH;FMTTYPE=image/png:https://sportsmenstennis.org/wp-content/uploads/2025/02/VAV-Calendar.png
ORGANIZER;CN="Front Desk":MAILTO:info@sportsmentennis.org
END:VEVENT
BEGIN:VEVENT
DTSTART;TZID=America/New_York:20261030T180000
DTEND;TZID=America/New_York:20261030T200000
DTSTAMP:20260422T005745
CREATED:20260327T201501Z
LAST-MODIFIED:20260327T203519Z
UID:10000893-1793383200-1793390400@sportsmenstennis.org
SUMMARY:Volley Against Violence
DESCRIPTION:Join us at Sportsmen’s Tennis & Enrichment Center along with The Boston Police Department\nas they present FREE FUN & FITNESS for youth ages 5 – 16 on Fridays 6:00 to 8:00pm.\nFor more information call Sportsmen’s at 617.288.9092. \n \nLEARN MORE HERE
URL:https://sportsmenstennis.org/event/volley-against-violence-2-2/2026-10-30/
LOCATION:Sportsmen’s Tennis & Enrichment Center\, 950 Blue Hill Avenue\, Dorchester\, MA\, 02124
CATEGORIES:Community Event,Volley Against Violence
ATTACH;FMTTYPE=image/png:https://sportsmenstennis.org/wp-content/uploads/2025/02/VAV-Calendar.png
ORGANIZER;CN="Front Desk":MAILTO:info@sportsmentennis.org
END:VEVENT
BEGIN:VEVENT
DTSTART;TZID=America/New_York:20261106T180000
DTEND;TZID=America/New_York:20261106T200000
DTSTAMP:20260422T005745
CREATED:20260327T201501Z
LAST-MODIFIED:20260327T203519Z
UID:10000894-1793988000-1793995200@sportsmenstennis.org
SUMMARY:Volley Against Violence
DESCRIPTION:Join us at Sportsmen’s Tennis & Enrichment Center along with The Boston Police Department\nas they present FREE FUN & FITNESS for youth ages 5 – 16 on Fridays 6:00 to 8:00pm.\nFor more information call Sportsmen’s at 617.288.9092. \n \nLEARN MORE HERE
URL:https://sportsmenstennis.org/event/volley-against-violence-2-2/2026-11-06/
LOCATION:Sportsmen’s Tennis & Enrichment Center\, 950 Blue Hill Avenue\, Dorchester\, MA\, 02124
CATEGORIES:Community Event,Volley Against Violence
ATTACH;FMTTYPE=image/png:https://sportsmenstennis.org/wp-content/uploads/2025/02/VAV-Calendar.png
ORGANIZER;CN="Front Desk":MAILTO:info@sportsmentennis.org
END:VEVENT
BEGIN:VEVENT
DTSTART;TZID=America/New_York:20261113T180000
DTEND;TZID=America/New_York:20261113T200000
DTSTAMP:20260422T005745
CREATED:20260327T201501Z
LAST-MODIFIED:20260327T203519Z
UID:10000895-1794592800-1794600000@sportsmenstennis.org
SUMMARY:Volley Against Violence
DESCRIPTION:Join us at Sportsmen’s Tennis & Enrichment Center along with The Boston Police Department\nas they present FREE FUN & FITNESS for youth ages 5 – 16 on Fridays 6:00 to 8:00pm.\nFor more information call Sportsmen’s at 617.288.9092. \n \nLEARN MORE HERE
URL:https://sportsmenstennis.org/event/volley-against-violence-2-2/2026-11-13/
LOCATION:Sportsmen’s Tennis & Enrichment Center\, 950 Blue Hill Avenue\, Dorchester\, MA\, 02124
CATEGORIES:Community Event,Volley Against Violence
ATTACH;FMTTYPE=image/png:https://sportsmenstennis.org/wp-content/uploads/2025/02/VAV-Calendar.png
ORGANIZER;CN="Front Desk":MAILTO:info@sportsmentennis.org
END:VEVENT
BEGIN:VEVENT
DTSTART;TZID=America/New_York:20261120T180000
DTEND;TZID=America/New_York:20261120T200000
DTSTAMP:20260422T005745
CREATED:20260327T201501Z
LAST-MODIFIED:20260327T203519Z
UID:10000896-1795197600-1795204800@sportsmenstennis.org
SUMMARY:Volley Against Violence
DESCRIPTION:Join us at Sportsmen’s Tennis & Enrichment Center along with The Boston Police Department\nas they present FREE FUN & FITNESS for youth ages 5 – 16 on Fridays 6:00 to 8:00pm.\nFor more information call Sportsmen’s at 617.288.9092. \n \nLEARN MORE HERE
URL:https://sportsmenstennis.org/event/volley-against-violence-2-2/2026-11-20/
LOCATION:Sportsmen’s Tennis & Enrichment Center\, 950 Blue Hill Avenue\, Dorchester\, MA\, 02124
CATEGORIES:Community Event,Volley Against Violence
ATTACH;FMTTYPE=image/png:https://sportsmenstennis.org/wp-content/uploads/2025/02/VAV-Calendar.png
ORGANIZER;CN="Front Desk":MAILTO:info@sportsmentennis.org
END:VEVENT
BEGIN:VEVENT
DTSTART;TZID=America/New_York:20261127T180000
DTEND;TZID=America/New_York:20261127T200000
DTSTAMP:20260422T005745
CREATED:20260327T201501Z
LAST-MODIFIED:20260327T203519Z
UID:10000897-1795802400-1795809600@sportsmenstennis.org
SUMMARY:Volley Against Violence
DESCRIPTION:Join us at Sportsmen’s Tennis & Enrichment Center along with The Boston Police Department\nas they present FREE FUN & FITNESS for youth ages 5 – 16 on Fridays 6:00 to 8:00pm.\nFor more information call Sportsmen’s at 617.288.9092. \n \nLEARN MORE HERE
URL:https://sportsmenstennis.org/event/volley-against-violence-2-2/2026-11-27/
LOCATION:Sportsmen’s Tennis & Enrichment Center\, 950 Blue Hill Avenue\, Dorchester\, MA\, 02124
CATEGORIES:Community Event,Volley Against Violence
ATTACH;FMTTYPE=image/png:https://sportsmenstennis.org/wp-content/uploads/2025/02/VAV-Calendar.png
ORGANIZER;CN="Front Desk":MAILTO:info@sportsmentennis.org
END:VEVENT
BEGIN:VEVENT
DTSTART;TZID=America/New_York:20261204T180000
DTEND;TZID=America/New_York:20261204T200000
DTSTAMP:20260422T005745
CREATED:20260327T201501Z
LAST-MODIFIED:20260327T203519Z
UID:10000898-1796407200-1796414400@sportsmenstennis.org
SUMMARY:Volley Against Violence
DESCRIPTION:Join us at Sportsmen’s Tennis & Enrichment Center along with The Boston Police Department\nas they present FREE FUN & FITNESS for youth ages 5 – 16 on Fridays 6:00 to 8:00pm.\nFor more information call Sportsmen’s at 617.288.9092. \n \nLEARN MORE HERE
URL:https://sportsmenstennis.org/event/volley-against-violence-2-2/2026-12-04/
LOCATION:Sportsmen’s Tennis & Enrichment Center\, 950 Blue Hill Avenue\, Dorchester\, MA\, 02124
CATEGORIES:Community Event,Volley Against Violence
ATTACH;FMTTYPE=image/png:https://sportsmenstennis.org/wp-content/uploads/2025/02/VAV-Calendar.png
ORGANIZER;CN="Front Desk":MAILTO:info@sportsmentennis.org
END:VEVENT
BEGIN:VEVENT
DTSTART;TZID=America/New_York:20261211T180000
DTEND;TZID=America/New_York:20261211T200000
DTSTAMP:20260422T005745
CREATED:20260327T201501Z
LAST-MODIFIED:20260327T203519Z
UID:10000899-1797012000-1797019200@sportsmenstennis.org
SUMMARY:Volley Against Violence
DESCRIPTION:Join us at Sportsmen’s Tennis & Enrichment Center along with The Boston Police Department\nas they present FREE FUN & FITNESS for youth ages 5 – 16 on Fridays 6:00 to 8:00pm.\nFor more information call Sportsmen’s at 617.288.9092. \n \nLEARN MORE HERE
URL:https://sportsmenstennis.org/event/volley-against-violence-2-2/2026-12-11/
LOCATION:Sportsmen’s Tennis & Enrichment Center\, 950 Blue Hill Avenue\, Dorchester\, MA\, 02124
CATEGORIES:Community Event,Volley Against Violence
ATTACH;FMTTYPE=image/png:https://sportsmenstennis.org/wp-content/uploads/2025/02/VAV-Calendar.png
ORGANIZER;CN="Front Desk":MAILTO:info@sportsmentennis.org
END:VEVENT
BEGIN:VEVENT
DTSTART;TZID=America/New_York:20261218T180000
DTEND;TZID=America/New_York:20261218T200000
DTSTAMP:20260422T005745
CREATED:20260327T201501Z
LAST-MODIFIED:20260327T203519Z
UID:10000900-1797616800-1797624000@sportsmenstennis.org
SUMMARY:Volley Against Violence
DESCRIPTION:Join us at Sportsmen’s Tennis & Enrichment Center along with The Boston Police Department\nas they present FREE FUN & FITNESS for youth ages 5 – 16 on Fridays 6:00 to 8:00pm.\nFor more information call Sportsmen’s at 617.288.9092. \n \nLEARN MORE HERE
URL:https://sportsmenstennis.org/event/volley-against-violence-2-2/2026-12-18/
LOCATION:Sportsmen’s Tennis & Enrichment Center\, 950 Blue Hill Avenue\, Dorchester\, MA\, 02124
CATEGORIES:Community Event,Volley Against Violence
ATTACH;FMTTYPE=image/png:https://sportsmenstennis.org/wp-content/uploads/2025/02/VAV-Calendar.png
ORGANIZER;CN="Front Desk":MAILTO:info@sportsmentennis.org
END:VEVENT
BEGIN:VEVENT
DTSTART;TZID=America/New_York:20261225T180000
DTEND;TZID=America/New_York:20261225T200000
DTSTAMP:20260422T005745
CREATED:20260327T201501Z
LAST-MODIFIED:20260327T203519Z
UID:10000901-1798221600-1798228800@sportsmenstennis.org
SUMMARY:Volley Against Violence
DESCRIPTION:Join us at Sportsmen’s Tennis & Enrichment Center along with The Boston Police Department\nas they present FREE FUN & FITNESS for youth ages 5 – 16 on Fridays 6:00 to 8:00pm.\nFor more information call Sportsmen’s at 617.288.9092. \n \nLEARN MORE HERE
URL:https://sportsmenstennis.org/event/volley-against-violence-2-2/2026-12-25/
LOCATION:Sportsmen’s Tennis & Enrichment Center\, 950 Blue Hill Avenue\, Dorchester\, MA\, 02124
CATEGORIES:Community Event,Volley Against Violence
ATTACH;FMTTYPE=image/png:https://sportsmenstennis.org/wp-content/uploads/2025/02/VAV-Calendar.png
ORGANIZER;CN="Front Desk":MAILTO:info@sportsmentennis.org
END:VEVENT
BEGIN:VEVENT
DTSTART;TZID=America/New_York:20270101T180000
DTEND;TZID=America/New_York:20270101T200000
DTSTAMP:20260422T005745
CREATED:20260327T201501Z
LAST-MODIFIED:20260327T203519Z
UID:10000902-1798826400-1798833600@sportsmenstennis.org
SUMMARY:Volley Against Violence
DESCRIPTION:Join us at Sportsmen’s Tennis & Enrichment Center along with The Boston Police Department\nas they present FREE FUN & FITNESS for youth ages 5 – 16 on Fridays 6:00 to 8:00pm.\nFor more information call Sportsmen’s at 617.288.9092. \n \nLEARN MORE HERE
URL:https://sportsmenstennis.org/event/volley-against-violence-2-2/2027-01-01/
LOCATION:Sportsmen’s Tennis & Enrichment Center\, 950 Blue Hill Avenue\, Dorchester\, MA\, 02124
CATEGORIES:Community Event,Volley Against Violence
ATTACH;FMTTYPE=image/png:https://sportsmenstennis.org/wp-content/uploads/2025/02/VAV-Calendar.png
ORGANIZER;CN="Front Desk":MAILTO:info@sportsmentennis.org
END:VEVENT
BEGIN:VEVENT
DTSTART;TZID=America/New_York:20270108T180000
DTEND;TZID=America/New_York:20270108T200000
DTSTAMP:20260422T005745
CREATED:20260327T201501Z
LAST-MODIFIED:20260327T203519Z
UID:10000903-1799431200-1799438400@sportsmenstennis.org
SUMMARY:Volley Against Violence
DESCRIPTION:Join us at Sportsmen’s Tennis & Enrichment Center along with The Boston Police Department\nas they present FREE FUN & FITNESS for youth ages 5 – 16 on Fridays 6:00 to 8:00pm.\nFor more information call Sportsmen’s at 617.288.9092. \n \nLEARN MORE HERE
URL:https://sportsmenstennis.org/event/volley-against-violence-2-2/2027-01-08/
LOCATION:Sportsmen’s Tennis & Enrichment Center\, 950 Blue Hill Avenue\, Dorchester\, MA\, 02124
CATEGORIES:Community Event,Volley Against Violence
ATTACH;FMTTYPE=image/png:https://sportsmenstennis.org/wp-content/uploads/2025/02/VAV-Calendar.png
ORGANIZER;CN="Front Desk":MAILTO:info@sportsmentennis.org
END:VEVENT
BEGIN:VEVENT
DTSTART;TZID=America/New_York:20270115T180000
DTEND;TZID=America/New_York:20270115T200000
DTSTAMP:20260422T005745
CREATED:20260327T201501Z
LAST-MODIFIED:20260327T203519Z
UID:10000904-1800036000-1800043200@sportsmenstennis.org
SUMMARY:Volley Against Violence
DESCRIPTION:Join us at Sportsmen’s Tennis & Enrichment Center along with The Boston Police Department\nas they present FREE FUN & FITNESS for youth ages 5 – 16 on Fridays 6:00 to 8:00pm.\nFor more information call Sportsmen’s at 617.288.9092. \n \nLEARN MORE HERE
URL:https://sportsmenstennis.org/event/volley-against-violence-2-2/2027-01-15/
LOCATION:Sportsmen’s Tennis & Enrichment Center\, 950 Blue Hill Avenue\, Dorchester\, MA\, 02124
CATEGORIES:Community Event,Volley Against Violence
ATTACH;FMTTYPE=image/png:https://sportsmenstennis.org/wp-content/uploads/2025/02/VAV-Calendar.png
ORGANIZER;CN="Front Desk":MAILTO:info@sportsmentennis.org
END:VEVENT
BEGIN:VEVENT
DTSTART;TZID=America/New_York:20270122T180000
DTEND;TZID=America/New_York:20270122T200000
DTSTAMP:20260422T005745
CREATED:20260327T201501Z
LAST-MODIFIED:20260327T203519Z
UID:10000905-1800640800-1800648000@sportsmenstennis.org
SUMMARY:Volley Against Violence
DESCRIPTION:Join us at Sportsmen’s Tennis & Enrichment Center along with The Boston Police Department\nas they present FREE FUN & FITNESS for youth ages 5 – 16 on Fridays 6:00 to 8:00pm.\nFor more information call Sportsmen’s at 617.288.9092. \n \nLEARN MORE HERE
URL:https://sportsmenstennis.org/event/volley-against-violence-2-2/2027-01-22/
LOCATION:Sportsmen’s Tennis & Enrichment Center\, 950 Blue Hill Avenue\, Dorchester\, MA\, 02124
CATEGORIES:Community Event,Volley Against Violence
ATTACH;FMTTYPE=image/png:https://sportsmenstennis.org/wp-content/uploads/2025/02/VAV-Calendar.png
ORGANIZER;CN="Front Desk":MAILTO:info@sportsmentennis.org
END:VEVENT
BEGIN:VEVENT
DTSTART;TZID=America/New_York:20270129T180000
DTEND;TZID=America/New_York:20270129T200000
DTSTAMP:20260422T005745
CREATED:20260327T201501Z
LAST-MODIFIED:20260327T203519Z
UID:10000906-1801245600-1801252800@sportsmenstennis.org
SUMMARY:Volley Against Violence
DESCRIPTION:Join us at Sportsmen’s Tennis & Enrichment Center along with The Boston Police Department\nas they present FREE FUN & FITNESS for youth ages 5 – 16 on Fridays 6:00 to 8:00pm.\nFor more information call Sportsmen’s at 617.288.9092. \n \nLEARN MORE HERE
URL:https://sportsmenstennis.org/event/volley-against-violence-2-2/2027-01-29/
LOCATION:Sportsmen’s Tennis & Enrichment Center\, 950 Blue Hill Avenue\, Dorchester\, MA\, 02124
CATEGORIES:Community Event,Volley Against Violence
ATTACH;FMTTYPE=image/png:https://sportsmenstennis.org/wp-content/uploads/2025/02/VAV-Calendar.png
ORGANIZER;CN="Front Desk":MAILTO:info@sportsmentennis.org
END:VEVENT
BEGIN:VEVENT
DTSTART;TZID=America/New_York:20270205T180000
DTEND;TZID=America/New_York:20270205T200000
DTSTAMP:20260422T005745
CREATED:20260327T201501Z
LAST-MODIFIED:20260327T203519Z
UID:10000907-1801850400-1801857600@sportsmenstennis.org
SUMMARY:Volley Against Violence
DESCRIPTION:Join us at Sportsmen’s Tennis & Enrichment Center along with The Boston Police Department\nas they present FREE FUN & FITNESS for youth ages 5 – 16 on Fridays 6:00 to 8:00pm.\nFor more information call Sportsmen’s at 617.288.9092. \n \nLEARN MORE HERE
URL:https://sportsmenstennis.org/event/volley-against-violence-2-2/2027-02-05/
LOCATION:Sportsmen’s Tennis & Enrichment Center\, 950 Blue Hill Avenue\, Dorchester\, MA\, 02124
CATEGORIES:Community Event,Volley Against Violence
ATTACH;FMTTYPE=image/png:https://sportsmenstennis.org/wp-content/uploads/2025/02/VAV-Calendar.png
ORGANIZER;CN="Front Desk":MAILTO:info@sportsmentennis.org
END:VEVENT
BEGIN:VEVENT
DTSTART;TZID=America/New_York:20270212T180000
DTEND;TZID=America/New_York:20270212T200000
DTSTAMP:20260422T005745
CREATED:20260327T201501Z
LAST-MODIFIED:20260327T203519Z
UID:10000908-1802455200-1802462400@sportsmenstennis.org
SUMMARY:Volley Against Violence
DESCRIPTION:Join us at Sportsmen’s Tennis & Enrichment Center along with The Boston Police Department\nas they present FREE FUN & FITNESS for youth ages 5 – 16 on Fridays 6:00 to 8:00pm.\nFor more information call Sportsmen’s at 617.288.9092. \n \nLEARN MORE HERE
URL:https://sportsmenstennis.org/event/volley-against-violence-2-2/2027-02-12/
LOCATION:Sportsmen’s Tennis & Enrichment Center\, 950 Blue Hill Avenue\, Dorchester\, MA\, 02124
CATEGORIES:Community Event,Volley Against Violence
ATTACH;FMTTYPE=image/png:https://sportsmenstennis.org/wp-content/uploads/2025/02/VAV-Calendar.png
ORGANIZER;CN="Front Desk":MAILTO:info@sportsmentennis.org
END:VEVENT
BEGIN:VEVENT
DTSTART;TZID=America/New_York:20270219T180000
DTEND;TZID=America/New_York:20270219T200000
DTSTAMP:20260422T005745
CREATED:20260327T201501Z
LAST-MODIFIED:20260327T203519Z
UID:10000909-1803060000-1803067200@sportsmenstennis.org
SUMMARY:Volley Against Violence
DESCRIPTION:Join us at Sportsmen’s Tennis & Enrichment Center along with The Boston Police Department\nas they present FREE FUN & FITNESS for youth ages 5 – 16 on Fridays 6:00 to 8:00pm.\nFor more information call Sportsmen’s at 617.288.9092. \n \nLEARN MORE HERE
URL:https://sportsmenstennis.org/event/volley-against-violence-2-2/2027-02-19/
LOCATION:Sportsmen’s Tennis & Enrichment Center\, 950 Blue Hill Avenue\, Dorchester\, MA\, 02124
CATEGORIES:Community Event,Volley Against Violence
ATTACH;FMTTYPE=image/png:https://sportsmenstennis.org/wp-content/uploads/2025/02/VAV-Calendar.png
ORGANIZER;CN="Front Desk":MAILTO:info@sportsmentennis.org
END:VEVENT
BEGIN:VEVENT
DTSTART;TZID=America/New_York:20270226T180000
DTEND;TZID=America/New_York:20270226T200000
DTSTAMP:20260422T005745
CREATED:20260327T201501Z
LAST-MODIFIED:20260327T203519Z
UID:10000910-1803664800-1803672000@sportsmenstennis.org
SUMMARY:Volley Against Violence
DESCRIPTION:Join us at Sportsmen’s Tennis & Enrichment Center along with The Boston Police Department\nas they present FREE FUN & FITNESS for youth ages 5 – 16 on Fridays 6:00 to 8:00pm.\nFor more information call Sportsmen’s at 617.288.9092. \n \nLEARN MORE HERE
URL:https://sportsmenstennis.org/event/volley-against-violence-2-2/2027-02-26/
LOCATION:Sportsmen’s Tennis & Enrichment Center\, 950 Blue Hill Avenue\, Dorchester\, MA\, 02124
CATEGORIES:Community Event,Volley Against Violence
ATTACH;FMTTYPE=image/png:https://sportsmenstennis.org/wp-content/uploads/2025/02/VAV-Calendar.png
ORGANIZER;CN="Front Desk":MAILTO:info@sportsmentennis.org
END:VEVENT
BEGIN:VEVENT
DTSTART;TZID=America/New_York:20270305T180000
DTEND;TZID=America/New_York:20270305T200000
DTSTAMP:20260422T005745
CREATED:20260327T201501Z
LAST-MODIFIED:20260327T203519Z
UID:10000911-1804269600-1804276800@sportsmenstennis.org
SUMMARY:Volley Against Violence
DESCRIPTION:Join us at Sportsmen’s Tennis & Enrichment Center along with The Boston Police Department\nas they present FREE FUN & FITNESS for youth ages 5 – 16 on Fridays 6:00 to 8:00pm.\nFor more information call Sportsmen’s at 617.288.9092. \n \nLEARN MORE HERE
URL:https://sportsmenstennis.org/event/volley-against-violence-2-2/2027-03-05/
LOCATION:Sportsmen’s Tennis & Enrichment Center\, 950 Blue Hill Avenue\, Dorchester\, MA\, 02124
CATEGORIES:Community Event,Volley Against Violence
ATTACH;FMTTYPE=image/png:https://sportsmenstennis.org/wp-content/uploads/2025/02/VAV-Calendar.png
ORGANIZER;CN="Front Desk":MAILTO:info@sportsmentennis.org
END:VEVENT
BEGIN:VEVENT
DTSTART;TZID=America/New_York:20270312T180000
DTEND;TZID=America/New_York:20270312T200000
DTSTAMP:20260422T005745
CREATED:20260327T201501Z
LAST-MODIFIED:20260327T203519Z
UID:10000912-1804874400-1804881600@sportsmenstennis.org
SUMMARY:Volley Against Violence
DESCRIPTION:Join us at Sportsmen’s Tennis & Enrichment Center along with The Boston Police Department\nas they present FREE FUN & FITNESS for youth ages 5 – 16 on Fridays 6:00 to 8:00pm.\nFor more information call Sportsmen’s at 617.288.9092. \n \nLEARN MORE HERE
URL:https://sportsmenstennis.org/event/volley-against-violence-2-2/2027-03-12/
LOCATION:Sportsmen’s Tennis & Enrichment Center\, 950 Blue Hill Avenue\, Dorchester\, MA\, 02124
CATEGORIES:Community Event,Volley Against Violence
ATTACH;FMTTYPE=image/png:https://sportsmenstennis.org/wp-content/uploads/2025/02/VAV-Calendar.png
ORGANIZER;CN="Front Desk":MAILTO:info@sportsmentennis.org
END:VEVENT
BEGIN:VEVENT
DTSTART;TZID=America/New_York:20270319T180000
DTEND;TZID=America/New_York:20270319T200000
DTSTAMP:20260422T005745
CREATED:20260327T201501Z
LAST-MODIFIED:20260327T203519Z
UID:10000913-1805479200-1805486400@sportsmenstennis.org
SUMMARY:Volley Against Violence
DESCRIPTION:Join us at Sportsmen’s Tennis & Enrichment Center along with The Boston Police Department\nas they present FREE FUN & FITNESS for youth ages 5 – 16 on Fridays 6:00 to 8:00pm.\nFor more information call Sportsmen’s at 617.288.9092. \n \nLEARN MORE HERE
URL:https://sportsmenstennis.org/event/volley-against-violence-2-2/2027-03-19/
LOCATION:Sportsmen’s Tennis & Enrichment Center\, 950 Blue Hill Avenue\, Dorchester\, MA\, 02124
CATEGORIES:Community Event,Volley Against Violence
ATTACH;FMTTYPE=image/png:https://sportsmenstennis.org/wp-content/uploads/2025/02/VAV-Calendar.png
ORGANIZER;CN="Front Desk":MAILTO:info@sportsmentennis.org
END:VEVENT
BEGIN:VEVENT
DTSTART;TZID=America/New_York:20270326T180000
DTEND;TZID=America/New_York:20270326T200000
DTSTAMP:20260422T005745
CREATED:20260327T201501Z
LAST-MODIFIED:20260327T203519Z
UID:10000914-1806084000-1806091200@sportsmenstennis.org
SUMMARY:Volley Against Violence
DESCRIPTION:Join us at Sportsmen’s Tennis & Enrichment Center along with The Boston Police Department\nas they present FREE FUN & FITNESS for youth ages 5 – 16 on Fridays 6:00 to 8:00pm.\nFor more information call Sportsmen’s at 617.288.9092. \n \nLEARN MORE HERE
URL:https://sportsmenstennis.org/event/volley-against-violence-2-2/2027-03-26/
LOCATION:Sportsmen’s Tennis & Enrichment Center\, 950 Blue Hill Avenue\, Dorchester\, MA\, 02124
CATEGORIES:Community Event,Volley Against Violence
ATTACH;FMTTYPE=image/png:https://sportsmenstennis.org/wp-content/uploads/2025/02/VAV-Calendar.png
ORGANIZER;CN="Front Desk":MAILTO:info@sportsmentennis.org
END:VEVENT
BEGIN:VEVENT
DTSTART;TZID=America/New_York:20270402T180000
DTEND;TZID=America/New_York:20270402T200000
DTSTAMP:20260422T005745
CREATED:20260327T201501Z
LAST-MODIFIED:20260327T203519Z
UID:10000915-1806688800-1806696000@sportsmenstennis.org
SUMMARY:Volley Against Violence
DESCRIPTION:Join us at Sportsmen’s Tennis & Enrichment Center along with The Boston Police Department\nas they present FREE FUN & FITNESS for youth ages 5 – 16 on Fridays 6:00 to 8:00pm.\nFor more information call Sportsmen’s at 617.288.9092. \n \nLEARN MORE HERE
URL:https://sportsmenstennis.org/event/volley-against-violence-2-2/2027-04-02/
LOCATION:Sportsmen’s Tennis & Enrichment Center\, 950 Blue Hill Avenue\, Dorchester\, MA\, 02124
CATEGORIES:Community Event,Volley Against Violence
ATTACH;FMTTYPE=image/png:https://sportsmenstennis.org/wp-content/uploads/2025/02/VAV-Calendar.png
ORGANIZER;CN="Front Desk":MAILTO:info@sportsmentennis.org
END:VEVENT
BEGIN:VEVENT
DTSTART;TZID=America/New_York:20270409T180000
DTEND;TZID=America/New_York:20270409T200000
DTSTAMP:20260422T005745
CREATED:20260327T201501Z
LAST-MODIFIED:20260327T203519Z
UID:10000916-1807293600-1807300800@sportsmenstennis.org
SUMMARY:Volley Against Violence
DESCRIPTION:Join us at Sportsmen’s Tennis & Enrichment Center along with The Boston Police Department\nas they present FREE FUN & FITNESS for youth ages 5 – 16 on Fridays 6:00 to 8:00pm.\nFor more information call Sportsmen’s at 617.288.9092. \n \nLEARN MORE HERE
URL:https://sportsmenstennis.org/event/volley-against-violence-2-2/2027-04-09/
LOCATION:Sportsmen’s Tennis & Enrichment Center\, 950 Blue Hill Avenue\, Dorchester\, MA\, 02124
CATEGORIES:Community Event,Volley Against Violence
ATTACH;FMTTYPE=image/png:https://sportsmenstennis.org/wp-content/uploads/2025/02/VAV-Calendar.png
ORGANIZER;CN="Front Desk":MAILTO:info@sportsmentennis.org
END:VEVENT
BEGIN:VEVENT
DTSTART;TZID=America/New_York:20270416T180000
DTEND;TZID=America/New_York:20270416T200000
DTSTAMP:20260422T005745
CREATED:20260327T201501Z
LAST-MODIFIED:20260327T203519Z
UID:10000917-1807898400-1807905600@sportsmenstennis.org
SUMMARY:Volley Against Violence
DESCRIPTION:Join us at Sportsmen’s Tennis & Enrichment Center along with The Boston Police Department\nas they present FREE FUN & FITNESS for youth ages 5 – 16 on Fridays 6:00 to 8:00pm.\nFor more information call Sportsmen’s at 617.288.9092. \n \nLEARN MORE HERE
URL:https://sportsmenstennis.org/event/volley-against-violence-2-2/2027-04-16/
LOCATION:Sportsmen’s Tennis & Enrichment Center\, 950 Blue Hill Avenue\, Dorchester\, MA\, 02124
CATEGORIES:Community Event,Volley Against Violence
ATTACH;FMTTYPE=image/png:https://sportsmenstennis.org/wp-content/uploads/2025/02/VAV-Calendar.png
ORGANIZER;CN="Front Desk":MAILTO:info@sportsmentennis.org
END:VEVENT
BEGIN:VEVENT
DTSTART;TZID=America/New_York:20270423T180000
DTEND;TZID=America/New_York:20270423T200000
DTSTAMP:20260422T005745
CREATED:20260327T201501Z
LAST-MODIFIED:20260327T203519Z
UID:10000918-1808503200-1808510400@sportsmenstennis.org
SUMMARY:Volley Against Violence
DESCRIPTION:Join us at Sportsmen’s Tennis & Enrichment Center along with The Boston Police Department\nas they present FREE FUN & FITNESS for youth ages 5 – 16 on Fridays 6:00 to 8:00pm.\nFor more information call Sportsmen’s at 617.288.9092. \n \nLEARN MORE HERE
URL:https://sportsmenstennis.org/event/volley-against-violence-2-2/2027-04-23/
LOCATION:Sportsmen’s Tennis & Enrichment Center\, 950 Blue Hill Avenue\, Dorchester\, MA\, 02124
CATEGORIES:Community Event,Volley Against Violence
ATTACH;FMTTYPE=image/png:https://sportsmenstennis.org/wp-content/uploads/2025/02/VAV-Calendar.png
ORGANIZER;CN="Front Desk":MAILTO:info@sportsmentennis.org
END:VEVENT
BEGIN:VEVENT
DTSTART;TZID=America/New_York:20270430T180000
DTEND;TZID=America/New_York:20270430T200000
DTSTAMP:20260422T005745
CREATED:20260327T201501Z
LAST-MODIFIED:20260327T203519Z
UID:10000919-1809108000-1809115200@sportsmenstennis.org
SUMMARY:Volley Against Violence
DESCRIPTION:Join us at Sportsmen’s Tennis & Enrichment Center along with The Boston Police Department\nas they present FREE FUN & FITNESS for youth ages 5 – 16 on Fridays 6:00 to 8:00pm.\nFor more information call Sportsmen’s at 617.288.9092. \n \nLEARN MORE HERE
URL:https://sportsmenstennis.org/event/volley-against-violence-2-2/2027-04-30/
LOCATION:Sportsmen’s Tennis & Enrichment Center\, 950 Blue Hill Avenue\, Dorchester\, MA\, 02124
CATEGORIES:Community Event,Volley Against Violence
ATTACH;FMTTYPE=image/png:https://sportsmenstennis.org/wp-content/uploads/2025/02/VAV-Calendar.png
ORGANIZER;CN="Front Desk":MAILTO:info@sportsmentennis.org
END:VEVENT
END:VCALENDAR