BEGIN:VCALENDAR
VERSION:2.0
PRODID:-//The Sportsmen’s Tennis &amp; Enrichment Center - ECPv6.15.20//NONSGML v1.0//EN
CALSCALE:GREGORIAN
METHOD:PUBLISH
X-ORIGINAL-URL:https://sportsmenstennis.org
X-WR-CALDESC:Events for The Sportsmen’s Tennis &amp; Enrichment Center
REFRESH-INTERVAL;VALUE=DURATION:PT1H
X-Robots-Tag:noindex
X-PUBLISHED-TTL:PT1H
BEGIN:VTIMEZONE
TZID:America/New_York
BEGIN:DAYLIGHT
TZOFFSETFROM:-0500
TZOFFSETTO:-0400
TZNAME:EDT
DTSTART:20250309T070000
END:DAYLIGHT
BEGIN:STANDARD
TZOFFSETFROM:-0400
TZOFFSETTO:-0500
TZNAME:EST
DTSTART:20251102T060000
END:STANDARD
BEGIN:DAYLIGHT
TZOFFSETFROM:-0500
TZOFFSETTO:-0400
TZNAME:EDT
DTSTART:20260308T070000
END:DAYLIGHT
BEGIN:STANDARD
TZOFFSETFROM:-0400
TZOFFSETTO:-0500
TZNAME:EST
DTSTART:20261101T060000
END:STANDARD
BEGIN:DAYLIGHT
TZOFFSETFROM:-0500
TZOFFSETTO:-0400
TZNAME:EDT
DTSTART:20270314T070000
END:DAYLIGHT
BEGIN:STANDARD
TZOFFSETFROM:-0400
TZOFFSETTO:-0500
TZNAME:EST
DTSTART:20271107T060000
END:STANDARD
END:VTIMEZONE
BEGIN:VEVENT
DTSTART;VALUE=DATE:20260606
DTEND;VALUE=DATE:20260607
DTSTAMP:20260422T005848
CREATED:20260327T205430Z
LAST-MODIFIED:20260327T210404Z
UID:10000968-1780704000-1780790399@sportsmenstennis.org
SUMMARY:6th Annual Giovanni Graziani Memorial Tennis Tournament
DESCRIPTION:Join us for the 6th Annual Giovanni Graziani Memorial Tennis Tournament\nSaturday\, June 6 & Sunday\, June 7\, 2026 \nSingles Competition: Saturday\, June 6th\nDoubles Competition: Sunday\, June 7th \nRegistration will open in May. \nLEARN MORE HERE
URL:https://sportsmenstennis.org/event/6th-annual-giovanni-graziani-memorial-tennis-tournament/2026-06-06/
LOCATION:Sportsmen’s Tennis & Enrichment Center\, 950 Blue Hill Avenue\, Dorchester\, MA\, 02124
CATEGORIES:Fundraiser
ATTACH;FMTTYPE=image/png:https://sportsmenstennis.org/wp-content/uploads/2026/03/Graziani-Tournament-scaled.png
ORGANIZER;CN="Andrew Crane":MAILTO:andrew.crane@comcast.net
END:VEVENT
BEGIN:VEVENT
DTSTART;VALUE=DATE:20260607
DTEND;VALUE=DATE:20260608
DTSTAMP:20260422T005848
CREATED:20260327T205430Z
LAST-MODIFIED:20260327T210404Z
UID:10000969-1780819200-1780851600@sportsmenstennis.org
SUMMARY:6th Annual Giovanni Graziani Memorial Tennis Tournament
DESCRIPTION:Join us for the 6th Annual Giovanni Graziani Memorial Tennis Tournament\nSaturday\, June 6 & Sunday\, June 7\, 2026 \nSingles Competition: Saturday\, June 6th\nDoubles Competition: Sunday\, June 7th \nRegistration will open in May. \nLEARN MORE HERE
URL:https://sportsmenstennis.org/event/6th-annual-giovanni-graziani-memorial-tennis-tournament/2026-06-07/
LOCATION:Sportsmen’s Tennis & Enrichment Center\, 950 Blue Hill Avenue\, Dorchester\, MA\, 02124
CATEGORIES:Fundraiser
ATTACH;FMTTYPE=image/png:https://sportsmenstennis.org/wp-content/uploads/2026/03/Graziani-Tournament-scaled.png
ORGANIZER;CN="Andrew Crane":MAILTO:andrew.crane@comcast.net
END:VEVENT
END:VCALENDAR